BEGIN:VCALENDAR
VERSION:2.0
PRODID:-//wp-events-plugin.com//7.2.3.1//EN
BEGIN:VEVENT
UID:6@halterastur.es
DTSTART;TZID=Europe/Madrid:20230708T160000
DTEND;TZID=Europe/Madrid:20230708T211500
DTSTAMP:20230711T171018Z
URL:https://halterastur.es/Calendario/3a-jornada-liga-nacional-clubs-halte
 rofilia-2023-2
SUMMARY:3ª Jornada Liga Nacional Clubs Halterofilia 2023
DESCRIPTION:\n\nSe celebrará en las instalaciones del CLUB HALTEROFILIA C
 ORREDORIA EN EL BOX RECONQUISTA DE LUGONES Polígono Industrial Puente Nor
 a Calle A\, Nave 22\, 33420 Lugones\, Asturias\n\n \n\n
ATTACH;FMTTYPE=image/jpeg:https://i0.wp.com/halterastur.es/wp-content/uplo
 ads/2023/07/WhatsApp-Image-2023-07-06-at-14.54.08.jpg?fit=1280%2C579&ssl=1
END:VEVENT
BEGIN:VTIMEZONE
TZID:Europe/Madrid
X-LIC-LOCATION:Europe/Madrid
BEGIN:DAYLIGHT
DTSTART:20230326T030000
TZOFFSETFROM:+0100
TZOFFSETTO:+0200
TZNAME:CEST
END:DAYLIGHT
END:VTIMEZONE
END:VCALENDAR