BEGIN:VCALENDAR
VERSION:2.0
PRODID:-//wp-events-plugin.com//7.2.3.1//EN
BEGIN:VEVENT
UID:1@halterastur.es
DTSTART:20230414T153000Z
DTEND:20230414T180000Z
DTSTAMP:20230412T142313Z
URL:https://halterastur.es/Calendario/cto-de-asturias-sub15-y-segunda-jorn
 ada-de-liga-de-tecnica
SUMMARY:Cto de Asturias sub15 y segunda jornada de liga de técnica
DESCRIPTION:Cto de Asturias sub15 y segunda jornada de liga de técnica\nEn
 lace para ver el evento en directo\nConvocatoria:\n\n\n\n\n&nbsp\;\n\n&nbs
 p\;\n\n&nbsp\;
ATTACH;FMTTYPE=image/jpeg:https://i0.wp.com/halterastur.es/wp-content/uplo
 ads/2023/04/haltero-sub-152-cuadrado.jpg?fit=1920%2C1920&ssl=1
LOCATION:985 CROSSFIT\, Av. de Eduardo Castro\, 94\,\, 33212\, gijon\, 3321
 2\, Asturias\, España
X-APPLE-STRUCTURED-LOCATION;VALUE=URI;X-ADDRESS=Av. de Eduardo Castro\, 94\
 ,\, 33212\, gijon\, 33212\, Asturias\, España;X-APPLE-RADIUS=100;X-TITLE=
 985 CROSSFIT:geo:0,0
END:VEVENT
END:VCALENDAR