BEGIN:VCALENDAR
VERSION:2.0
PRODID:-//wp-events-plugin.com//7.2.3.1//EN
BEGIN:VEVENT
UID:17@halterastur.es
DTSTART;TZID=Europe/Madrid:20250222T151500
DTEND;TZID=Europe/Madrid:20250222T211500
DTSTAMP:20250219T124408Z
URL:https://halterastur.es/Calendario/i-jornada-de-liga-asturias-adelantad
 a-palacio-d-gijon
SUMMARY:I Jornada de Liga de Clubes Asturias (adelantada) Palacio D. Gijón
DESCRIPTION:Para verlo en directo  https://www.youtube.com/live/nyTvXmtl_V
 A\n\n
ATTACH;FMTTYPE=image/jpeg:https://i0.wp.com/halterastur.es/wp-content/uplo
 ads/2025/01/WhatsApp-Image-2025-02-12-at-21.32.10.jpeg?fit=1080%2C1350&ssl
 =1
END:VEVENT
BEGIN:VTIMEZONE
TZID:Europe/Madrid
X-LIC-LOCATION:Europe/Madrid
BEGIN:STANDARD
DTSTART:20241027T020000
TZOFFSETFROM:+0200
TZOFFSETTO:+0100
TZNAME:CET
END:STANDARD
END:VTIMEZONE
END:VCALENDAR