BEGIN:VCALENDAR
VERSION:2.0
PRODID:-//wp-events-plugin.com//7.2.3.1//EN
BEGIN:VEVENT
UID:8@halterastur.es
DTSTART;TZID=Europe/Madrid:20231118T100000
DTEND;TZID=Europe/Madrid:20231118T210000
DTSTAMP:20231114T112616Z
URL:https://halterastur.es/Calendario/vii-copa-de-espana-master-y-vii-camp
 eonato-de-espana-master-por-federaciones
SUMMARY:VII COPA DE ESPAÑA MÁSTER Y VII CAMPEONATO DE ESPAÑA MÁSTER POR
  FEDERACIONES
DESCRIPTION:\n\n\n\nEnlace para ver en directo la jornada https://bit.ly/HA
 LTEROMASTERGIJON23\n\n\n\n\n\n\n\n
ATTACH;FMTTYPE=image/jpeg:https://i0.wp.com/halterastur.es/wp-content/uplo
 ads/2023/11/380742090_10159071789317827_4156829427500970890_n.jpg?fit=1125
 %2C1132&ssl=1
END:VEVENT
BEGIN:VTIMEZONE
TZID:Europe/Madrid
X-LIC-LOCATION:Europe/Madrid
BEGIN:STANDARD
DTSTART:20231029T020000
TZOFFSETFROM:+0200
TZOFFSETTO:+0100
TZNAME:CET
END:STANDARD
END:VTIMEZONE
END:VCALENDAR